BEGIN:VCALENDAR
VERSION:2.0
PRODID:-//L&#039;Arche Chicago - ECPv6.15.20//NONSGML v1.0//EN
CALSCALE:GREGORIAN
METHOD:PUBLISH
X-WR-CALNAME:L&#039;Arche Chicago
X-ORIGINAL-URL:https://larchechicago.org
X-WR-CALDESC:Events for L&#039;Arche Chicago
REFRESH-INTERVAL;VALUE=DURATION:PT1H
X-Robots-Tag:noindex
X-PUBLISHED-TTL:PT1H
BEGIN:VTIMEZONE
TZID:America/Chicago
BEGIN:DAYLIGHT
TZOFFSETFROM:-0600
TZOFFSETTO:-0500
TZNAME:CDT
DTSTART:20220313T080000
END:DAYLIGHT
BEGIN:STANDARD
TZOFFSETFROM:-0500
TZOFFSETTO:-0600
TZNAME:CST
DTSTART:20221106T070000
END:STANDARD
BEGIN:DAYLIGHT
TZOFFSETFROM:-0600
TZOFFSETTO:-0500
TZNAME:CDT
DTSTART:20230312T080000
END:DAYLIGHT
BEGIN:STANDARD
TZOFFSETFROM:-0500
TZOFFSETTO:-0600
TZNAME:CST
DTSTART:20231105T070000
END:STANDARD
BEGIN:DAYLIGHT
TZOFFSETFROM:-0600
TZOFFSETTO:-0500
TZNAME:CDT
DTSTART:20240310T080000
END:DAYLIGHT
BEGIN:STANDARD
TZOFFSETFROM:-0500
TZOFFSETTO:-0600
TZNAME:CST
DTSTART:20241103T070000
END:STANDARD
BEGIN:DAYLIGHT
TZOFFSETFROM:-0600
TZOFFSETTO:-0500
TZNAME:CDT
DTSTART:20250309T080000
END:DAYLIGHT
BEGIN:STANDARD
TZOFFSETFROM:-0500
TZOFFSETTO:-0600
TZNAME:CST
DTSTART:20251102T070000
END:STANDARD
BEGIN:DAYLIGHT
TZOFFSETFROM:-0600
TZOFFSETTO:-0500
TZNAME:CDT
DTSTART:20260308T080000
END:DAYLIGHT
BEGIN:STANDARD
TZOFFSETFROM:-0500
TZOFFSETTO:-0600
TZNAME:CST
DTSTART:20261101T070000
END:STANDARD
BEGIN:DAYLIGHT
TZOFFSETFROM:-0600
TZOFFSETTO:-0500
TZNAME:CDT
DTSTART:20270314T080000
END:DAYLIGHT
BEGIN:STANDARD
TZOFFSETFROM:-0500
TZOFFSETTO:-0600
TZNAME:CST
DTSTART:20271107T070000
END:STANDARD
END:VTIMEZONE
BEGIN:VEVENT
DTSTART;TZID=America/Chicago:20260328T180000
DTEND;TZID=America/Chicago:20260328T220000
DTSTAMP:20260424T102901
CREATED:20250926T163713Z
LAST-MODIFIED:20260402T193807Z
UID:10000116-1774720800-1774735200@larchechicago.org
SUMMARY:Laurence’s Legacy of Caring – The Tradition Continues!
DESCRIPTION:
URL:https://larchechicago.org/event/laurences-legacy-of-caring-2026/
LOCATION:Saint Ignatius College Prep – Tully Hall\, 1076 Roosevelt Rd.\, Chicago\, IL\, 60608
END:VEVENT
BEGIN:VEVENT
DTSTART;TZID=America/Chicago:20260207T110000
DTEND;TZID=America/Chicago:20260207T130000
DTSTAMP:20260424T102901
CREATED:20250926T162358Z
LAST-MODIFIED:20260210T184555Z
UID:10000115-1770462000-1770469200@larchechicago.org
SUMMARY:2026 Solidarity Brunch
DESCRIPTION:
URL:https://larchechicago.org/event/2026-solidarity-brunch/
LOCATION:Riverside Golf Club\, 2520 S Des Plaines Ave\, North Riverside\, IL\, 60546
END:VEVENT
BEGIN:VEVENT
DTSTART;TZID=America/Chicago:20251019T160000
DTEND;TZID=America/Chicago:20251019T183000
DTSTAMP:20260424T102901
CREATED:20250814T170122Z
LAST-MODIFIED:20251022T190229Z
UID:10000101-1760889600-1760898600@larchechicago.org
SUMMARY:2025 Heart of L'Arche Dinner and Benefit
DESCRIPTION:
URL:https://larchechicago.org/event/2025-heart-of-larche-dinner-and-benefit/
LOCATION:Nineteenth Century Club\, 178 Forest Ave\, Oak Park\, IL\, 60301\, United States
END:VEVENT
BEGIN:VEVENT
DTSTART;TZID=America/Chicago:20250903T183000
DTEND;TZID=America/Chicago:20250903T200000
DTSTAMP:20260424T102901
CREATED:20241230T185944Z
LAST-MODIFIED:20250214T211031Z
UID:10000034-1756924200-1756929600@larchechicago.org
SUMMARY:Community Night
DESCRIPTION:
URL:https://larchechicago.org/event/communitynight-2-2/2025-09-03/
LOCATION:First Presbyterian Church\, 7551 Quick Ave\, River Forest\, IL\, 60305
END:VEVENT
BEGIN:VEVENT
DTSTART;TZID=America/Chicago:20250811T103000
DTEND;TZID=America/Chicago:20250811T183000
DTSTAMP:20260424T102901
CREATED:20240326T170046Z
LAST-MODIFIED:20250915T190242Z
UID:10000011-1754908200-1754937000@larchechicago.org
SUMMARY:11th Annual L'Arche Chicago Golf Classic
DESCRIPTION:
URL:https://larchechicago.org/event/golf/
LOCATION:Illinois
END:VEVENT
BEGIN:VEVENT
DTSTART;TZID=America/Chicago:20250806T183000
DTEND;TZID=America/Chicago:20250806T200000
DTSTAMP:20260424T102901
CREATED:20241230T185944Z
LAST-MODIFIED:20250214T211031Z
UID:10000033-1754505000-1754510400@larchechicago.org
SUMMARY:Community Night
DESCRIPTION:
URL:https://larchechicago.org/event/communitynight-2-2/2025-08-06/
LOCATION:First Presbyterian Church\, 7551 Quick Ave\, River Forest\, IL\, 60305
END:VEVENT
BEGIN:VEVENT
DTSTART;TZID=America/Chicago:20250719T120000
DTEND;TZID=America/Chicago:20250719T150000
DTSTAMP:20260424T102901
CREATED:20250610T201558Z
LAST-MODIFIED:20250724T150641Z
UID:10000100-1752926400-1752937200@larchechicago.org
SUMMARY:25th Anniversary Founders Day BBQ
DESCRIPTION:
URL:https://larchechicago.org/event/25th-anniversary-founders-day-bbq/
LOCATION:Peace House\, 541 Ferdinand Ave\, Forest Park\, IL\, 60130\, United States
END:VEVENT
BEGIN:VEVENT
DTSTART;TZID=America/Chicago:20250702T183000
DTEND;TZID=America/Chicago:20250702T200000
DTSTAMP:20260424T102901
CREATED:20241230T185944Z
LAST-MODIFIED:20250214T211031Z
UID:10000032-1751481000-1751486400@larchechicago.org
SUMMARY:Community Night
DESCRIPTION:
URL:https://larchechicago.org/event/communitynight-2-2/2025-07-02/
LOCATION:First Presbyterian Church\, 7551 Quick Ave\, River Forest\, IL\, 60305
END:VEVENT
BEGIN:VEVENT
DTSTART;TZID=America/Chicago:20250628T070000
DTEND;TZID=America/Chicago:20250628T133000
DTSTAMP:20260424T102901
CREATED:20250327T195438Z
LAST-MODIFIED:20250515T155054Z
UID:10000097-1751094000-1751117400@larchechicago.org
SUMMARY:Donut Day is Back!
DESCRIPTION:
URL:https://larchechicago.org/event/donutday2025/
LOCATION:Oak Park Farmers Market\, 460 Lake St\, Oak Park\, IL\, 60302
END:VEVENT
BEGIN:VEVENT
DTSTART;TZID=America/Chicago:20250604T183000
DTEND;TZID=America/Chicago:20250604T200000
DTSTAMP:20260424T102901
CREATED:20241230T185944Z
LAST-MODIFIED:20250214T211031Z
UID:10000031-1749061800-1749067200@larchechicago.org
SUMMARY:Community Night
DESCRIPTION:
URL:https://larchechicago.org/event/communitynight-2-2/2025-06-04/
LOCATION:First Presbyterian Church\, 7551 Quick Ave\, River Forest\, IL\, 60305
END:VEVENT
BEGIN:VEVENT
DTSTART;TZID=America/Chicago:20250507T183000
DTEND;TZID=America/Chicago:20250507T200000
DTSTAMP:20260424T102901
CREATED:20241230T185944Z
LAST-MODIFIED:20250214T211031Z
UID:10000030-1746642600-1746648000@larchechicago.org
SUMMARY:Community Night
DESCRIPTION:
URL:https://larchechicago.org/event/communitynight-2-2/2025-05-07/
LOCATION:First Presbyterian Church\, 7551 Quick Ave\, River Forest\, IL\, 60305
END:VEVENT
BEGIN:VEVENT
DTSTART;TZID=America/Chicago:20250322T173000
DTEND;TZID=America/Chicago:20250322T223000
DTSTAMP:20260424T102901
CREATED:20250110T223001Z
LAST-MODIFIED:20250326T142629Z
UID:10000094-1742664600-1742682600@larchechicago.org
SUMMARY:Laurence’s Legacy of Caring – The Tradition Continues!
DESCRIPTION:
URL:https://larchechicago.org/event/laurences-legacy-of-caring-the-tradition-continues/
LOCATION:Saint Ignatius College Prep – Tully Hall\, 1076 Roosevelt Rd.\, Chicago\, IL\, 60608
END:VEVENT
BEGIN:VEVENT
DTSTART;TZID=America/Chicago:20250308T110000
DTEND;TZID=America/Chicago:20250308T130000
DTSTAMP:20260424T102901
CREATED:20231207T164421Z
LAST-MODIFIED:20250407T180610Z
UID:10000010-1741431600-1741438800@larchechicago.org
SUMMARY:2025 Solidarity Brunch
DESCRIPTION:
URL:https://larchechicago.org/event/2025-solidarity-brunch/
LOCATION:Riverside Golf Club\, 2520 S Des Plaines Ave\, North Riverside\, IL\, 60546
END:VEVENT
BEGIN:VEVENT
DTSTART;TZID=America/Chicago:20250305T183000
DTEND;TZID=America/Chicago:20250305T200000
DTSTAMP:20260424T102901
CREATED:20241230T185944Z
LAST-MODIFIED:20250214T211031Z
UID:10000098-1741199400-1741204800@larchechicago.org
SUMMARY:Community Night
DESCRIPTION:
URL:https://larchechicago.org/event/communitynight-2-2/2025-03-05/
LOCATION:First Presbyterian Church\, 7551 Quick Ave\, River Forest\, IL\, 60305
END:VEVENT
BEGIN:VEVENT
DTSTART;TZID=America/Chicago:20250205T183000
DTEND;TZID=America/Chicago:20250205T200000
DTSTAMP:20260424T102901
CREATED:20241230T185944Z
LAST-MODIFIED:20250214T211031Z
UID:10000026-1738780200-1738785600@larchechicago.org
SUMMARY:Community Night
DESCRIPTION:
URL:https://larchechicago.org/event/communitynight-2-2/2025-02-05/
LOCATION:First Presbyterian Church\, 7551 Quick Ave\, River Forest\, IL\, 60305
END:VEVENT
BEGIN:VEVENT
DTSTART;TZID=America/Chicago:20241204T183000
DTEND;TZID=America/Chicago:20241204T200000
DTSTAMP:20260424T102901
CREATED:20240612T132232Z
LAST-MODIFIED:20240809T113737Z
UID:10000025-1733337000-1733342400@larchechicago.org
SUMMARY:Community Night
DESCRIPTION:
URL:https://larchechicago.org/event/communitynight-2/2024-12-04/
LOCATION:First Presbyterian Church\, 7551 Quick Ave\, River Forest\, IL\, 60305
END:VEVENT
BEGIN:VEVENT
DTSTART;TZID=America/Chicago:20241123T150000
DTEND;TZID=America/Chicago:20241123T170000
DTSTAMP:20260424T102901
CREATED:20241114T210903Z
LAST-MODIFIED:20241115T153153Z
UID:10000089-1732374000-1732381200@larchechicago.org
SUMMARY:Grand Opening & Reception
DESCRIPTION:
URL:https://larchechicago.org/event/grand-opening-reception/
LOCATION:St. Joseph House\, 1111 S East Ave\, Oak Park\, IL\, United States
END:VEVENT
BEGIN:VEVENT
DTSTART;TZID=America/Chicago:20241106T183000
DTEND;TZID=America/Chicago:20241106T200000
DTSTAMP:20260424T102901
CREATED:20240612T132232Z
LAST-MODIFIED:20240809T113737Z
UID:10000024-1730917800-1730923200@larchechicago.org
SUMMARY:Community Night
DESCRIPTION:
URL:https://larchechicago.org/event/communitynight-2/2024-11-06/
LOCATION:First Presbyterian Church\, 7551 Quick Ave\, River Forest\, IL\, 60305
END:VEVENT
BEGIN:VEVENT
DTSTART;TZID=America/Chicago:20241013T160000
DTEND;TZID=America/Chicago:20241013T183000
DTSTAMP:20260424T102901
CREATED:20240827T203643Z
LAST-MODIFIED:20241011T185906Z
UID:10000012-1728835200-1728844200@larchechicago.org
SUMMARY:2024 Heart of L'Arche Dinner and Benefit
DESCRIPTION:
URL:https://larchechicago.org/event/heart-of-larche-dinner/
LOCATION:Nineteenth Century Club\, 178 Forest Ave\, Oak Park\, IL\, 60301\, United States
END:VEVENT
BEGIN:VEVENT
DTSTART;TZID=America/Chicago:20241002T183000
DTEND;TZID=America/Chicago:20241002T200000
DTSTAMP:20260424T102901
CREATED:20240612T132232Z
LAST-MODIFIED:20240809T113737Z
UID:10000023-1727893800-1727899200@larchechicago.org
SUMMARY:Community Night
DESCRIPTION:
URL:https://larchechicago.org/event/communitynight-2/2024-10-02/
LOCATION:First Presbyterian Church\, 7551 Quick Ave\, River Forest\, IL\, 60305
END:VEVENT
BEGIN:VEVENT
DTSTART;TZID=America/Chicago:20240904T183000
DTEND;TZID=America/Chicago:20240904T200000
DTSTAMP:20260424T102902
CREATED:20240612T132232Z
LAST-MODIFIED:20240809T113737Z
UID:10000022-1725474600-1725480000@larchechicago.org
SUMMARY:Community Night
DESCRIPTION:
URL:https://larchechicago.org/event/communitynight-2/2024-09-04/
LOCATION:First Presbyterian Church\, 7551 Quick Ave\, River Forest\, IL\, 60305
END:VEVENT
BEGIN:VEVENT
DTSTART;TZID=America/Chicago:20240807T180000
DTEND;TZID=America/Chicago:20240807T203000
DTSTAMP:20260424T102902
CREATED:20240612T151130Z
LAST-MODIFIED:20240809T113544Z
UID:10000084-1723053600-1723062600@larchechicago.org
SUMMARY:Founders' Day BBQ
DESCRIPTION:
URL:https://larchechicago.org/event/founders-day-bbq-2/
LOCATION:541 Ferdinand Ave\, Forest Park\, IL\, 541 Ferdiand Ave\, Forest Park\, IL\, 60130\, United States
END:VEVENT
BEGIN:VEVENT
DTSTART;TZID=America/Chicago:20240605T183000
DTEND;TZID=America/Chicago:20240605T200000
DTSTAMP:20260424T102902
CREATED:20240413T142720Z
LAST-MODIFIED:20240417T010800Z
UID:10000019-1717612200-1717617600@larchechicago.org
SUMMARY:Community Night
DESCRIPTION:
URL:https://larchechicago.org/event/communitynight/2024-06-05/
LOCATION:First Presbyterian Church\, 7551 Quick Ave\, River Forest\, IL\, 60305
END:VEVENT
BEGIN:VEVENT
DTSTART;TZID=America/Chicago:20240504T183000
DTEND;TZID=America/Chicago:20240504T203000
DTSTAMP:20260424T102902
CREATED:20240315T215957Z
LAST-MODIFIED:20240320T140221Z
UID:10000075-1714847400-1714854600@larchechicago.org
SUMMARY:Soup and Stories: An Event Honoring Sister Maria Zeimen
DESCRIPTION:
URL:https://larchechicago.org/event/soup-and-stories/
LOCATION:Cornerstone Church\, 171 N Cuyler Ave\, Oak Park\, IL
END:VEVENT
BEGIN:VEVENT
DTSTART;TZID=America/Chicago:20240501T183000
DTEND;TZID=America/Chicago:20240501T200000
DTSTAMP:20260424T102902
CREATED:20240413T142720Z
LAST-MODIFIED:20240417T010800Z
UID:10000018-1714588200-1714593600@larchechicago.org
SUMMARY:Community Night
DESCRIPTION:
URL:https://larchechicago.org/event/communitynight/2024-05-01/
LOCATION:First Presbyterian Church\, 7551 Quick Ave\, River Forest\, IL\, 60305
END:VEVENT
BEGIN:VEVENT
DTSTART;TZID=America/Chicago:20240403T183000
DTEND;TZID=America/Chicago:20240403T200000
DTSTAMP:20260424T102902
CREATED:20240214T161419Z
LAST-MODIFIED:20240214T161420Z
UID:10000016-1712169000-1712174400@larchechicago.org
SUMMARY:Community Night
DESCRIPTION:
URL:https://larchechicago.org/event/community-night-2-2/
LOCATION:First Presbyterian Church\, 7551 Quick Ave\, River Forest\, IL\, 60305
END:VEVENT
BEGIN:VEVENT
DTSTART;TZID=America/Chicago:20240207T183000
DTEND;TZID=America/Chicago:20240207T200000
DTSTAMP:20260424T102902
CREATED:20231115T193426Z
LAST-MODIFIED:20240612T131707Z
UID:10000015-1707330600-1707336000@larchechicago.org
SUMMARY:Community Night
DESCRIPTION:
URL:https://larchechicago.org/event/community-night-2/2024-02-07/
LOCATION:First Presbyterian Church\, 7551 Quick Ave\, River Forest\, IL\, 60305
END:VEVENT
BEGIN:VEVENT
DTSTART;TZID=America/Chicago:20240103T183000
DTEND;TZID=America/Chicago:20240103T200000
DTSTAMP:20260424T102902
CREATED:20231115T193426Z
LAST-MODIFIED:20240612T131707Z
UID:10000014-1704306600-1704312000@larchechicago.org
SUMMARY:Community Night
DESCRIPTION:
URL:https://larchechicago.org/event/community-night-2/2024-01-03/
LOCATION:First Presbyterian Church\, 7551 Quick Ave\, River Forest\, IL\, 60305
END:VEVENT
BEGIN:VEVENT
DTSTART;TZID=America/Chicago:20231206T183000
DTEND;TZID=America/Chicago:20231206T200000
DTSTAMP:20260424T102902
CREATED:20231115T193426Z
LAST-MODIFIED:20240612T131707Z
UID:10000013-1701887400-1701892800@larchechicago.org
SUMMARY:Community Night
DESCRIPTION:
URL:https://larchechicago.org/event/community-night-2/2023-12-06/
LOCATION:First Presbyterian Church\, 7551 Quick Ave\, River Forest\, IL\, 60305
END:VEVENT
BEGIN:VEVENT
DTSTART;TZID=America/Chicago:20231101T183000
DTEND;TZID=America/Chicago:20231101T200000
DTSTAMP:20260424T102902
CREATED:20230918T155628Z
LAST-MODIFIED:20230918T160134Z
UID:10000009-1698863400-1698868800@larchechicago.org
SUMMARY:November Community Night
DESCRIPTION:
URL:https://larchechicago.org/event/november-community-night/
LOCATION:First Presbyterian Church\, 7551 Quick Ave\, River Forest\, IL\, 60305
END:VEVENT
END:VCALENDAR